View In:
ArcGIS JavaScript
ArcGIS Online Map Viewer
ArcGIS Earth
ArcGIS Pro
Service Description: Berkeley County, West Virginia 2016 Aerial Imagery
Map Name: AERIAL_2016
Legend
All Layers and Tables
Layers:
Description: Berkeley County, West Virginia 2016 Aerial Imagery
Copyright Text: Berkeley County Department of Information technology
Spatial Reference:
102100
(3857)
LatestVCSWkid(0)
Single Fused Map Cache: true
Tile Info:
- Height: 256.0
- Width: 256.0
- DPI: 96.0
-
Levels of Detail: 24
-
Level ID: 1
[ Start Tile, End Tile ]
- Resolution: 78271.5169639999
- Scale: 2.95828763795777E8
-
Level ID: 2
[ Start Tile, End Tile ]
- Resolution: 39135.7584820001
- Scale: 1.47914381897889E8
-
Level ID: 3
[ Start Tile, End Tile ]
- Resolution: 19567.8792409999
- Scale: 7.3957190948944E7
-
Level ID: 4
[ Start Tile, End Tile ]
- Resolution: 9783.93962049996
- Scale: 3.6978595474472E7
-
Level ID: 5
[ Start Tile, End Tile ]
- Resolution: 4891.96981024998
- Scale: 1.8489297737236E7
- Format: Mixed
- Compression Quality: 75.0
- Origin: X: -2.0037508342787E7
Y: 2.0037508342787E7
- Spatial Reference: 102100
(3857)
LatestVCSWkid(0)
Storage Info:
- Storage Format: esriMapCacheStorageModeCompactV2
- Packet Size: 128
Initial Extent:
XMin: -8726217.595111186
YMin: 4758882.923185108
XMax: -8645268.024044937
YMax: 4811797.753095327
Spatial Reference: 102100
(0)
LatestVCSWkid(0)
Full Extent:
XMin: -8709175.890890421
YMin: 4758882.923185109
XMax: -8662309.728265699
YMax: 4811797.753095327
Spatial Reference: 102100
(0)
LatestVCSWkid(0)
Units: esriMeters
Supported Image Format Types: PNG32,PNG24,PNG,JPG,DIB,TIFF,EMF,PS,PDF,GIF,SVG,SVGZ,BMP
Document Info:
Title: TILED_2016
Author:
Comments: Berkeley County, West Virginia 2016 Aerial Imagery
Subject: 2016 Aerial
Category:
Keywords: berkeley,2016,aerial,imagery
AntialiasingMode: Fast
TextAntialiasingMode: Force
Supports Dynamic Layers: false
MaxRecordCount: 2000
MaxSelectionCount: 2000
MaxImageHeight: 4096
MaxImageWidth: 4096
Supported Query Formats: JSON, geoJSON, PBF
Supports Query Data Elements: true
Min Scale: 288895.277144
Max Scale: 564.248588
Min LOD: 11
Max LOD: 20
Supports Datum Transformation: true
Child Resources:
Info
Supported Operations:
Export Map
QueryLegends
EstimateExportTilesSize
ExportTiles
Return Updates